BEGIN:VCALENDAR
VERSION:2.0
PRODID:-//Pearmund Cellars - ECPv6.15.20//NONSGML v1.0//EN
CALSCALE:GREGORIAN
METHOD:PUBLISH
X-WR-CALNAME:Pearmund Cellars
X-ORIGINAL-URL:https://www.pearmundcellars.com
X-WR-CALDESC:Events for Pearmund Cellars
REFRESH-INTERVAL;VALUE=DURATION:PT1H
X-Robots-Tag:noindex
X-PUBLISHED-TTL:PT1H
BEGIN:VTIMEZONE
TZID:America/New_York
BEGIN:DAYLIGHT
TZOFFSETFROM:-0500
TZOFFSETTO:-0400
TZNAME:EDT
DTSTART:20240310T070000
END:DAYLIGHT
BEGIN:STANDARD
TZOFFSETFROM:-0400
TZOFFSETTO:-0500
TZNAME:EST
DTSTART:20241103T060000
END:STANDARD
BEGIN:DAYLIGHT
TZOFFSETFROM:-0500
TZOFFSETTO:-0400
TZNAME:EDT
DTSTART:20250309T070000
END:DAYLIGHT
BEGIN:STANDARD
TZOFFSETFROM:-0400
TZOFFSETTO:-0500
TZNAME:EST
DTSTART:20251102T060000
END:STANDARD
BEGIN:DAYLIGHT
TZOFFSETFROM:-0500
TZOFFSETTO:-0400
TZNAME:EDT
DTSTART:20260308T070000
END:DAYLIGHT
BEGIN:STANDARD
TZOFFSETFROM:-0400
TZOFFSETTO:-0500
TZNAME:EST
DTSTART:20261101T060000
END:STANDARD
END:VTIMEZONE
BEGIN:VEVENT
DTSTART;TZID=America/New_York:20251206T120000
DTEND;TZID=America/New_York:20251206T150000
DTSTAMP:20260423T092549
CREATED:20251119T194149Z
LAST-MODIFIED:20251119T194149Z
UID:4961-1765022400-1765033200@www.pearmundcellars.com
SUMMARY:Santa visits the Farmstore
DESCRIPTION:Bring the Kids\, as the Man with the bag will try and make dreams come true. \nThe Farmstore is open 11a-6p\, and Santa and his fun will be happening 12p – 6p. \nThere is no cost to attend\, but to keep things flowing\, please make reserve a time for EACH child during the designated half hour blocks by clicking here. \nReservations for tables at the Farmstore or the rooms upstairs (6 or more) a can be made by clicking here.
URL:https://www.pearmundcellars.com/event/santa-visits-the-farmstore/
END:VEVENT
BEGIN:VEVENT
DTSTART;TZID=America/New_York:20251213T120000
DTEND;TZID=America/New_York:20251213T160000
DTSTAMP:20260423T092549
CREATED:20251130T192210Z
LAST-MODIFIED:20251130T192210Z
UID:4966-1765627200-1765641600@www.pearmundcellars.com
SUMMARY:Barrel Owners Holiday Party
DESCRIPTION:Our annual barrel owners Holiday get together.   Barrel Club Members\, look for your emailed invitation.
URL:https://www.pearmundcellars.com/event/barrel-owners-holiday-party-4/2025-12-13/
END:VEVENT
BEGIN:VEVENT
DTSTART;TZID=America/New_York:20251214T120000
DTEND;TZID=America/New_York:20251214T160000
DTSTAMP:20260423T092549
CREATED:20251130T192210Z
LAST-MODIFIED:20251130T192210Z
UID:4967-1765713600-1765728000@www.pearmundcellars.com
SUMMARY:Barrel Owners Holiday Party
DESCRIPTION:Our annual barrel owners Holiday get together.   Barrel Club Members\, look for your emailed invitation.
URL:https://www.pearmundcellars.com/event/barrel-owners-holiday-party-4/2025-12-14/
END:VEVENT
BEGIN:VEVENT
DTSTART;VALUE=DATE:20251216
DTEND;VALUE=DATE:20251217
DTSTAMP:20260423T092549
CREATED:20251214T191334Z
LAST-MODIFIED:20251214T191334Z
UID:5114-1765843200-1765929599@www.pearmundcellars.com
SUMMARY:Inside 10 days for gifts....let us help
DESCRIPTION:Come on in and get wine and wine related gifts to finish the list. \nCant make it out\, we ship our wine FOR FREE (3 btl min. to VA\, 6 btl min to USA) \nClick here for our online store
URL:https://www.pearmundcellars.com/event/inside-10-days-for-gifts-let-us-help/2025-12-16/
END:VEVENT
BEGIN:VEVENT
DTSTART;VALUE=DATE:20251217
DTEND;VALUE=DATE:20251218
DTSTAMP:20260423T092549
CREATED:20251214T191334Z
LAST-MODIFIED:20251214T191334Z
UID:5115-1765929600-1766015999@www.pearmundcellars.com
SUMMARY:Inside 10 days for gifts....let us help
DESCRIPTION:Come on in and get wine and wine related gifts to finish the list. \nCant make it out\, we ship our wine FOR FREE (3 btl min. to VA\, 6 btl min to USA) \nClick here for our online store
URL:https://www.pearmundcellars.com/event/inside-10-days-for-gifts-let-us-help/2025-12-17/
END:VEVENT
BEGIN:VEVENT
DTSTART;VALUE=DATE:20251218
DTEND;VALUE=DATE:20251219
DTSTAMP:20260423T092549
CREATED:20251214T190330Z
LAST-MODIFIED:20251214T190330Z
UID:5110-1766016000-1766102399@www.pearmundcellars.com
SUMMARY:LAST DAY TO SHIP FOR XMAS OUT OF STATE
DESCRIPTION:Today is the last recommended day by UPS to get gifts under the tree in time. \nOur last pick up is 5pm. \nClick here to go to our online shop. 
URL:https://www.pearmundcellars.com/event/last-day-to-ship-for-xmas-out-of-state/
END:VEVENT
BEGIN:VEVENT
DTSTART;VALUE=DATE:20251218
DTEND;VALUE=DATE:20251219
DTSTAMP:20260423T092549
CREATED:20251214T191334Z
LAST-MODIFIED:20251214T191334Z
UID:5116-1766016000-1766102399@www.pearmundcellars.com
SUMMARY:Inside 10 days for gifts....let us help
DESCRIPTION:Come on in and get wine and wine related gifts to finish the list. \nCant make it out\, we ship our wine FOR FREE (3 btl min. to VA\, 6 btl min to USA) \nClick here for our online store
URL:https://www.pearmundcellars.com/event/inside-10-days-for-gifts-let-us-help/2025-12-18/
END:VEVENT
BEGIN:VEVENT
DTSTART;VALUE=DATE:20251219
DTEND;VALUE=DATE:20251220
DTSTAMP:20260423T092549
CREATED:20251214T191334Z
LAST-MODIFIED:20251214T191334Z
UID:5117-1766102400-1766188799@www.pearmundcellars.com
SUMMARY:Inside 10 days for gifts....let us help
DESCRIPTION:Come on in and get wine and wine related gifts to finish the list. \nCant make it out\, we ship our wine FOR FREE (3 btl min. to VA\, 6 btl min to USA) \nClick here for our online store
URL:https://www.pearmundcellars.com/event/inside-10-days-for-gifts-let-us-help/2025-12-19/
END:VEVENT
BEGIN:VEVENT
DTSTART;VALUE=DATE:20251220
DTEND;VALUE=DATE:20251221
DTSTAMP:20260423T092549
CREATED:20251214T191000Z
LAST-MODIFIED:20251214T191000Z
UID:5112-1766188800-1766275199@www.pearmundcellars.com
SUMMARY:LAST DAY TO SHIP FOR XMAS WITH IN VIRGINIA
DESCRIPTION:Today is the last recommended day by UPS to get gifts to a Virginia address in time for Christmas. \nThe last truck leaves at 5pm. \nFREE SHIPPING ON 3 OR MORE BOTTLES!! \nClick here to get to the online store
URL:https://www.pearmundcellars.com/event/last-day-to-ship-for-xmas-with-in-virginia/
END:VEVENT
BEGIN:VEVENT
DTSTART;TZID=America/New_York:20251224T150000
DTEND;TZID=America/New_York:20251224T150000
DTSTAMP:20260423T092549
CREATED:20251214T194627Z
LAST-MODIFIED:20251214T194627Z
UID:5123-1766588400-1766588400@www.pearmundcellars.com
SUMMARY:Christmas Eve-winery closed at 3pm
DESCRIPTION:Weve got lots of wrapping to do.   We will close at 3pm to get it done. \n  \nMerry Christmas
URL:https://www.pearmundcellars.com/event/christmas-eve-winery-closed-at-3pm/
END:VEVENT
BEGIN:VEVENT
DTSTART;VALUE=DATE:20251225
DTEND;VALUE=DATE:20251226
DTSTAMP:20260423T092549
CREATED:20251214T195047Z
LAST-MODIFIED:20251214T195047Z
UID:5125-1766620800-1766707199@www.pearmundcellars.com
SUMMARY:Christmas Day--Winery closed
DESCRIPTION:We may be home opening presents and drinking Chardonnay\, but our online store is ALWAYS OPEN!! \n  \nGet started on shopping next year at our online shop
URL:https://www.pearmundcellars.com/event/christmas-day-winery-closed-2/
END:VEVENT
BEGIN:VEVENT
DTSTART;TZID=America/New_York:20251227T120000
DTEND;TZID=America/New_York:20251227T170000
DTSTAMP:20260423T092549
CREATED:20251214T181416Z
LAST-MODIFIED:20251214T181416Z
UID:5107-1766836800-1766854800@www.pearmundcellars.com
SUMMARY:Cousins Maine Lobster on site
DESCRIPTION:Finish the year with one more lobster roll!! \n  \nCousins is here from 12 to 5.
URL:https://www.pearmundcellars.com/event/cousins-maine-lobster-on-site-2/
END:VEVENT
BEGIN:VEVENT
DTSTART;TZID=America/New_York:20251228T120000
DTEND;TZID=America/New_York:20251228T170000
DTSTAMP:20260423T092549
CREATED:20251218T172707Z
LAST-MODIFIED:20251218T172707Z
UID:5134-1766923200-1766941200@www.pearmundcellars.com
SUMMARY:Paulies BBQ Truck on site
DESCRIPTION:Enjoy some winter time BBQ with Pauleys Backwoods BBQ.   Here 12p – 5p
URL:https://www.pearmundcellars.com/event/paulies-bbq-truck-on-site/
END:VEVENT
BEGIN:VEVENT
DTSTART;VALUE=DATE:20251231
DTEND;VALUE=DATE:20260101
DTSTAMP:20260423T092549
CREATED:20251214T195154Z
LAST-MODIFIED:20251214T195154Z
UID:5127-1767139200-1767225599@www.pearmundcellars.com
SUMMARY:NEW YEARS EVE--Winery closed at 3pm
DESCRIPTION:We gotta get our tuxes and cocktail dresses on. \n 
URL:https://www.pearmundcellars.com/event/new-years-eve-winery-closed-at-3pm/
END:VEVENT
END:VCALENDAR