BEGIN:VCALENDAR
VERSION:2.0
PRODID:-//Pearmund Cellars - ECPv6.15.20//NONSGML v1.0//EN
CALSCALE:GREGORIAN
METHOD:PUBLISH
X-WR-CALNAME:Pearmund Cellars
X-ORIGINAL-URL:https://www.pearmundcellars.com
X-WR-CALDESC:Events for Pearmund Cellars
REFRESH-INTERVAL;VALUE=DURATION:PT1H
X-Robots-Tag:noindex
X-PUBLISHED-TTL:PT1H
BEGIN:VTIMEZONE
TZID:America/New_York
BEGIN:DAYLIGHT
TZOFFSETFROM:-0500
TZOFFSETTO:-0400
TZNAME:EDT
DTSTART:20240310T070000
END:DAYLIGHT
BEGIN:STANDARD
TZOFFSETFROM:-0400
TZOFFSETTO:-0500
TZNAME:EST
DTSTART:20241103T060000
END:STANDARD
BEGIN:DAYLIGHT
TZOFFSETFROM:-0500
TZOFFSETTO:-0400
TZNAME:EDT
DTSTART:20250309T070000
END:DAYLIGHT
BEGIN:STANDARD
TZOFFSETFROM:-0400
TZOFFSETTO:-0500
TZNAME:EST
DTSTART:20251102T060000
END:STANDARD
BEGIN:DAYLIGHT
TZOFFSETFROM:-0500
TZOFFSETTO:-0400
TZNAME:EDT
DTSTART:20260308T070000
END:DAYLIGHT
BEGIN:STANDARD
TZOFFSETFROM:-0400
TZOFFSETTO:-0500
TZNAME:EST
DTSTART:20261101T060000
END:STANDARD
END:VTIMEZONE
BEGIN:VEVENT
DTSTART;TZID=America/New_York:20251101T120000
DTEND;TZID=America/New_York:20251101T170000
DTSTAMP:20260423T065246
CREATED:20251015T125730Z
LAST-MODIFIED:20251015T125730Z
UID:4799-1761998400-1762016400@www.pearmundcellars.com
SUMMARY:Pauleys BBQ on site for Lunch
DESCRIPTION:
URL:https://www.pearmundcellars.com/event/pauleys-bbq-on-site-for-lunch/
END:VEVENT
BEGIN:VEVENT
DTSTART;TZID=America/New_York:20251102T120000
DTEND;TZID=America/New_York:20251102T150000
DTSTAMP:20260423T065246
CREATED:20251015T125951Z
LAST-MODIFIED:20251015T130001Z
UID:4802-1762084800-1762095600@www.pearmundcellars.com
SUMMARY:BBQ Lunch at the Farmstore with District Pit
DESCRIPTION:Nothing says Fall quite like a BBQ!! \nDistrict Pit will bring the best smoked meats in the DMV and we’ll pair with the best wines at the Autumn edition of our BBQ Lunch. \nCLICK HERE for reservations.
URL:https://www.pearmundcellars.com/event/bbq-lunch-at-the-farmstore-with-district-pit/
END:VEVENT
BEGIN:VEVENT
DTSTART;TZID=America/New_York:20251108T120000
DTEND;TZID=America/New_York:20251108T170000
DTSTAMP:20260423T065246
CREATED:20251106T125748Z
LAST-MODIFIED:20251106T125748Z
UID:4940-1762603200-1762621200@www.pearmundcellars.com
SUMMARY:Wine Club Pick Up Party
DESCRIPTION:Club members gather for sips\, samples\, nibbles and fun\, while they pick up this quarters shipment.
URL:https://www.pearmundcellars.com/event/wine-club-pick-up-party-3/2025-11-08/
END:VEVENT
BEGIN:VEVENT
DTSTART;TZID=America/New_York:20251108T120000
DTEND;TZID=America/New_York:20251108T170000
DTSTAMP:20260423T065246
CREATED:20251106T125838Z
LAST-MODIFIED:20251106T125838Z
UID:4945-1762603200-1762621200@www.pearmundcellars.com
SUMMARY:Cheesy Griddle on site
DESCRIPTION:Cheesy Griddle comfort food is on site for lunch\, 12p – 5p
URL:https://www.pearmundcellars.com/event/cheesy-griddle-on-site/
END:VEVENT
BEGIN:VEVENT
DTSTART;TZID=America/New_York:20251108T133000
DTEND;TZID=America/New_York:20251108T140000
DTSTAMP:20260423T065246
CREATED:20251106T130353Z
LAST-MODIFIED:20251106T130353Z
UID:4953-1762608600-1762610400@www.pearmundcellars.com
SUMMARY:PLACID LASSIE FLYOVER
DESCRIPTION:1943 C-47 aircraft\, Placid Lassie\, is scheduled for a dedicated flyover of Pearmund Cellars at 130pm–with a second pass 15 minutes later.   Placid Lassie was a major transportation provider during the Normandy offensive in 1944\, and still flys on her original engine and body.    No purchase necessary-come see our military in action.
URL:https://www.pearmundcellars.com/event/placid-lassie-flyover/
END:VEVENT
BEGIN:VEVENT
DTSTART;TZID=America/New_York:20251109T120000
DTEND;TZID=America/New_York:20251109T163000
DTSTAMP:20260423T065246
CREATED:20251106T125931Z
LAST-MODIFIED:20251106T125931Z
UID:4947-1762689600-1762705800@www.pearmundcellars.com
SUMMARY:Fireside Kabobs on site
DESCRIPTION:Fireside Kabobs on site with ‘Meat on a Stick’ (and pita!) for lunch\, 12p-4p
URL:https://www.pearmundcellars.com/event/fireside-kabobs-on-site-2/
END:VEVENT
BEGIN:VEVENT
DTSTART;TZID=America/New_York:20251109T120000
DTEND;TZID=America/New_York:20251109T170000
DTSTAMP:20260423T065246
CREATED:20251106T125748Z
LAST-MODIFIED:20251106T125748Z
UID:4941-1762689600-1762707600@www.pearmundcellars.com
SUMMARY:Wine Club Pick Up Party
DESCRIPTION:Club members gather for sips\, samples\, nibbles and fun\, while they pick up this quarters shipment.
URL:https://www.pearmundcellars.com/event/wine-club-pick-up-party-3/2025-11-09/
END:VEVENT
BEGIN:VEVENT
DTSTART;TZID=America/New_York:20251115T120000
DTEND;TZID=America/New_York:20251115T150000
DTSTAMP:20260423T065246
CREATED:20251111T161230Z
LAST-MODIFIED:20251112T161833Z
UID:4956-1763208000-1763218800@www.pearmundcellars.com
SUMMARY:Briggs Animal Rescue Dog Adoption event
DESCRIPTION:OUr Friends from Briggs Animal Shelter in West Virginia will be here with dogs looking for homes.   If you are thinking of bringing a new four legged family member into the home\, come by and see how they can help you.
URL:https://www.pearmundcellars.com/event/briggs-animal-rescue-dog-adoption-event/
END:VEVENT
BEGIN:VEVENT
DTSTART;TZID=America/New_York:20251115T120000
DTEND;TZID=America/New_York:20251115T170000
DTSTAMP:20260423T065246
CREATED:20251106T125748Z
LAST-MODIFIED:20251106T125748Z
UID:4942-1763208000-1763226000@www.pearmundcellars.com
SUMMARY:Wine Club Pick Up Party
DESCRIPTION:Club members gather for sips\, samples\, nibbles and fun\, while they pick up this quarters shipment.
URL:https://www.pearmundcellars.com/event/wine-club-pick-up-party-3/2025-11-15/
END:VEVENT
BEGIN:VEVENT
DTSTART;TZID=America/New_York:20251115T120000
DTEND;TZID=America/New_York:20251115T170000
DTSTAMP:20260423T065246
CREATED:20251106T130030Z
LAST-MODIFIED:20251106T130030Z
UID:4949-1763208000-1763226000@www.pearmundcellars.com
SUMMARY:Kitchen of Don Alfredo on site
DESCRIPTION:Taco Savant Don Alfredo brings his street food inspired food truck here for lunch 12p -5p
URL:https://www.pearmundcellars.com/event/kitchen-of-don-alfredo-on-site/
END:VEVENT
BEGIN:VEVENT
DTSTART;TZID=America/New_York:20251116T120000
DTEND;TZID=America/New_York:20251116T170000
DTSTAMP:20260423T065246
CREATED:20251106T125748Z
LAST-MODIFIED:20251106T125748Z
UID:4943-1763294400-1763312400@www.pearmundcellars.com
SUMMARY:Wine Club Pick Up Party
DESCRIPTION:Club members gather for sips\, samples\, nibbles and fun\, while they pick up this quarters shipment.
URL:https://www.pearmundcellars.com/event/wine-club-pick-up-party-3/2025-11-16/
END:VEVENT
BEGIN:VEVENT
DTSTART;TZID=America/New_York:20251116T120000
DTEND;TZID=America/New_York:20251116T170000
DTSTAMP:20260423T065246
CREATED:20251106T130118Z
LAST-MODIFIED:20251106T130118Z
UID:4951-1763294400-1763312400@www.pearmundcellars.com
SUMMARY:Sugusto food truck on site
DESCRIPTION:Sugusto is here with the best sandwiches and salads in the DMV for lunch\, 12p-5p
URL:https://www.pearmundcellars.com/event/sugusto-food-truck-on-site-3/
END:VEVENT
BEGIN:VEVENT
DTSTART;VALUE=DATE:20251127
DTEND;VALUE=DATE:20251128
DTSTAMP:20260423T065246
CREATED:20251119T194330Z
LAST-MODIFIED:20251119T194330Z
UID:4963-1764201600-1764287999@www.pearmundcellars.com
SUMMARY:Thanksgiving Day-Winery Closed
DESCRIPTION:The winery is closed on Thanksgiving Day. \nDrink Chardonnay with the Turkey.  Take the Commanders\, and cheer hard when you see the Underdog float!!
URL:https://www.pearmundcellars.com/event/thanksgiving-day-winery-closed-2/
END:VEVENT
END:VCALENDAR