BEGIN:VCALENDAR
VERSION:2.0
PRODID:-//Pearmund Cellars - ECPv6.15.20//NONSGML v1.0//EN
CALSCALE:GREGORIAN
METHOD:PUBLISH
X-ORIGINAL-URL:https://www.pearmundcellars.com
X-WR-CALDESC:Events for Pearmund Cellars
REFRESH-INTERVAL;VALUE=DURATION:PT1H
X-Robots-Tag:noindex
X-PUBLISHED-TTL:PT1H
BEGIN:VTIMEZONE
TZID:America/New_York
BEGIN:DAYLIGHT
TZOFFSETFROM:-0500
TZOFFSETTO:-0400
TZNAME:EDT
DTSTART:20240310T070000
END:DAYLIGHT
BEGIN:STANDARD
TZOFFSETFROM:-0400
TZOFFSETTO:-0500
TZNAME:EST
DTSTART:20241103T060000
END:STANDARD
BEGIN:DAYLIGHT
TZOFFSETFROM:-0500
TZOFFSETTO:-0400
TZNAME:EDT
DTSTART:20250309T070000
END:DAYLIGHT
BEGIN:STANDARD
TZOFFSETFROM:-0400
TZOFFSETTO:-0500
TZNAME:EST
DTSTART:20251102T060000
END:STANDARD
BEGIN:DAYLIGHT
TZOFFSETFROM:-0500
TZOFFSETTO:-0400
TZNAME:EDT
DTSTART:20260308T070000
END:DAYLIGHT
BEGIN:STANDARD
TZOFFSETFROM:-0400
TZOFFSETTO:-0500
TZNAME:EST
DTSTART:20261101T060000
END:STANDARD
END:VTIMEZONE
BEGIN:VEVENT
DTSTART;TZID=America/New_York:20250502T170000
DTEND;TZID=America/New_York:20250502T200000
DTSTAMP:20260423T075822
CREATED:20250423T211910Z
LAST-MODIFIED:20250423T211910Z
UID:4551-1746205200-1746216000@www.pearmundcellars.com
SUMMARY:FRIDAY NIGHT TIL 8 with Cheesy Griddle and Lawrence on Guitar
DESCRIPTION:We are open late every Friday in the Spring and Summer. \nCome hungry\, thirsty and ready for the weekend.
URL:https://www.pearmundcellars.com/event/friday-night-til-8-with-cheesy-griddle-and-lawrence-on-guitar/2025-05-02/
END:VEVENT
BEGIN:VEVENT
DTSTART;TZID=America/New_York:20250503T120000
DTEND;TZID=America/New_York:20250503T170000
DTSTAMP:20260423T075822
CREATED:20250424T154104Z
LAST-MODIFIED:20250424T154104Z
UID:4571-1746273600-1746291600@www.pearmundcellars.com
SUMMARY:Little Lady Grill on site 12p - 5p
DESCRIPTION:Comfort food at its best.
URL:https://www.pearmundcellars.com/event/little-lady-grill-on-site-12p-5p/
END:VEVENT
BEGIN:VEVENT
DTSTART;TZID=America/New_York:20250504T120000
DTEND;TZID=America/New_York:20250504T163000
DTSTAMP:20260423T075822
CREATED:20250424T153739Z
LAST-MODIFIED:20250424T153739Z
UID:4566-1746360000-1746376200@www.pearmundcellars.com
SUMMARY:Wine Club Pick Up
DESCRIPTION:Club members are invited to sample this months selections\, enjoy a light refreshment and spend the day with us. \nIf you have questions about membership\, email WineClub@PearmundCellars.com.
URL:https://www.pearmundcellars.com/event/wine-club-pick-up-3/2025-05-04/
END:VEVENT
BEGIN:VEVENT
DTSTART;TZID=America/New_York:20250504T120000
DTEND;TZID=America/New_York:20250504T170000
DTSTAMP:20260423T075822
CREATED:20250424T154141Z
LAST-MODIFIED:20250424T154141Z
UID:4573-1746360000-1746378000@www.pearmundcellars.com
SUMMARY:Island Soul food truck on site.  12-5
DESCRIPTION:A taste of the tropics!
URL:https://www.pearmundcellars.com/event/island-soul-food-truck-on-site-12-5/
END:VEVENT
BEGIN:VEVENT
DTSTART;TZID=America/New_York:20250509T170000
DTEND;TZID=America/New_York:20250509T200000
DTSTAMP:20260423T075822
CREATED:20250423T211910Z
LAST-MODIFIED:20250423T212201Z
UID:4552-1746810000-1746820800@www.pearmundcellars.com
SUMMARY:FRIDAY NIGHT TIL 8 with Pauley's BBQ and Trivia by Ron
DESCRIPTION:We are open late every Friday in the Spring and Summer. \nCome hungry\, thirsty and ready for the weekend.
URL:https://www.pearmundcellars.com/event/friday-night-til-8-with-cheesy-griddle-and-lawrence-on-guitar-2025-05-09/
END:VEVENT
BEGIN:VEVENT
DTSTART;TZID=America/New_York:20250510T120000
DTEND;TZID=America/New_York:20250510T163000
DTSTAMP:20260423T075822
CREATED:20250424T153739Z
LAST-MODIFIED:20250424T153739Z
UID:4567-1746878400-1746894600@www.pearmundcellars.com
SUMMARY:Wine Club Pick Up
DESCRIPTION:Club members are invited to sample this months selections\, enjoy a light refreshment and spend the day with us. \nIf you have questions about membership\, email WineClub@PearmundCellars.com.
URL:https://www.pearmundcellars.com/event/wine-club-pick-up-3/2025-05-10/
END:VEVENT
BEGIN:VEVENT
DTSTART;TZID=America/New_York:20250510T120000
DTEND;TZID=America/New_York:20250510T170000
DTSTAMP:20260423T075822
CREATED:20250424T154317Z
LAST-MODIFIED:20250507T191120Z
UID:4575-1746878400-1746896400@www.pearmundcellars.com
SUMMARY:Cousins Maine Lobster food Truck on site.   11-4
DESCRIPTION:Straight from Shark Tank\, the best New England seafood from here to Boston! \nLearn More
URL:https://www.pearmundcellars.com/event/cousins-maine-lobster-food-truck-on-site-12-5/
END:VEVENT
BEGIN:VEVENT
DTSTART;TZID=America/New_York:20250516T170000
DTEND;TZID=America/New_York:20250516T200000
DTSTAMP:20260423T075822
CREATED:20250423T211910Z
LAST-MODIFIED:20250423T212249Z
UID:4553-1747414800-1747425600@www.pearmundcellars.com
SUMMARY:FRIDAY NIGHT TIL 8 with Pizzeria Pearmund and Music by The Two Peas
DESCRIPTION:We are open late every Friday in the Spring and Summer. \nCome hungry\, thirsty and ready for the weekend.
URL:https://www.pearmundcellars.com/event/friday-night-til-8-with-cheesy-griddle-and-lawrence-on-guitar-2025-05-16/
END:VEVENT
BEGIN:VEVENT
DTSTART;TZID=America/New_York:20250517T120000
DTEND;TZID=America/New_York:20250517T163000
DTSTAMP:20260423T075822
CREATED:20250424T153739Z
LAST-MODIFIED:20250424T153739Z
UID:4568-1747483200-1747499400@www.pearmundcellars.com
SUMMARY:Wine Club Pick Up
DESCRIPTION:Club members are invited to sample this months selections\, enjoy a light refreshment and spend the day with us. \nIf you have questions about membership\, email WineClub@PearmundCellars.com.
URL:https://www.pearmundcellars.com/event/wine-club-pick-up-3/2025-05-17/
END:VEVENT
BEGIN:VEVENT
DTSTART;TZID=America/New_York:20250517T120000
DTEND;TZID=America/New_York:20250517T170000
DTSTAMP:20260423T075822
CREATED:20250424T154515Z
LAST-MODIFIED:20250424T154515Z
UID:4577-1747483200-1747501200@www.pearmundcellars.com
SUMMARY:Talk of the Mountain seafood on site
DESCRIPTION:THE best crab\, hushpuppies and shrimp in the DMV. \nLearn More
URL:https://www.pearmundcellars.com/event/talk-of-the-mountain-seafood-on-site-6/2025-05-17/
END:VEVENT
BEGIN:VEVENT
DTSTART;TZID=America/New_York:20250518T120000
DTEND;TZID=America/New_York:20250518T163000
DTSTAMP:20260423T075822
CREATED:20250424T153739Z
LAST-MODIFIED:20250505T213124Z
UID:4569-1747569600-1747585800@www.pearmundcellars.com
SUMMARY:Wine Club Pick Up
DESCRIPTION:Club members are invited to sample this months selections\, enjoy a light refreshment and spend the day with us. \nIf you have questions about membership\, email WineClub@PearmundCellars.com.
URL:https://www.pearmundcellars.com/event/wine-club-pick-up-3-2025-05-18/
END:VEVENT
BEGIN:VEVENT
DTSTART;TZID=America/New_York:20250518T120000
DTEND;TZID=America/New_York:20250518T170000
DTSTAMP:20260423T075822
CREATED:20250424T154515Z
LAST-MODIFIED:20250424T154515Z
UID:4578-1747569600-1747587600@www.pearmundcellars.com
SUMMARY:Talk of the Mountain seafood on site
DESCRIPTION:THE best crab\, hushpuppies and shrimp in the DMV. \nLearn More
URL:https://www.pearmundcellars.com/event/talk-of-the-mountain-seafood-on-site-6/2025-05-18/
END:VEVENT
BEGIN:VEVENT
DTSTART;TZID=America/New_York:20250523T170000
DTEND;TZID=America/New_York:20250523T200000
DTSTAMP:20260423T075822
CREATED:20250423T211910Z
LAST-MODIFIED:20250423T212321Z
UID:4554-1748019600-1748030400@www.pearmundcellars.com
SUMMARY:FRIDAY NIGHT TIL 8 with Cheesy Griddle and Music by Gordon and Cliff
DESCRIPTION:We are open late every Friday in the Spring and Summer. \nCome hungry\, thirsty and ready for the weekend.
URL:https://www.pearmundcellars.com/event/friday-night-til-8-with-cheesy-griddle-and-lawrence-on-guitar-2025-05-23/
END:VEVENT
BEGIN:VEVENT
DTSTART;TZID=America/New_York:20250524T120000
DTEND;TZID=America/New_York:20250524T170000
DTSTAMP:20260423T075822
CREATED:20250424T154707Z
LAST-MODIFIED:20250424T154707Z
UID:4580-1748088000-1748106000@www.pearmundcellars.com
SUMMARY:La Mati food truck on site
DESCRIPTION:Latin street food with flair! \nLearn More
URL:https://www.pearmundcellars.com/event/la-mati-food-truck-on-site-4/
END:VEVENT
BEGIN:VEVENT
DTSTART;TZID=America/New_York:20250525T110000
DTEND;TZID=America/New_York:20250525T120000
DTSTAMP:20260423T075822
CREATED:20250424T154836Z
LAST-MODIFIED:20250424T154836Z
UID:4582-1748170800-1748174400@www.pearmundcellars.com
SUMMARY:Sermon from the Vine
DESCRIPTION:Pastor Kim is back\, bringing together Gods gift of wine\, and its spiritual signifigance. \nAll denominations welcome.
URL:https://www.pearmundcellars.com/event/sermon-from-the-vine-4/
END:VEVENT
BEGIN:VEVENT
DTSTART;TZID=America/New_York:20250525T120000
DTEND;TZID=America/New_York:20250525T170000
DTSTAMP:20260423T075822
CREATED:20250424T154948Z
LAST-MODIFIED:20250424T154948Z
UID:4584-1748174400-1748192400@www.pearmundcellars.com
SUMMARY:SuGusto food truck
DESCRIPTION:We Like! \nLearn more
URL:https://www.pearmundcellars.com/event/sugusto-food-truck/
END:VEVENT
BEGIN:VEVENT
DTSTART;TZID=America/New_York:20250530T170000
DTEND;TZID=America/New_York:20250530T200000
DTSTAMP:20260423T075822
CREATED:20250423T211910Z
LAST-MODIFIED:20250530T160534Z
UID:4555-1748624400-1748635200@www.pearmundcellars.com
SUMMARY:FRIDAY NIGHT TIL 8 with COUSINS MAINE LOBSTER and Trivia with John!!
DESCRIPTION:We are open late every Friday in the Spring and Summer. \nCome hungry\, thirsty and ready for the weekend.
URL:https://www.pearmundcellars.com/event/friday-night-til-8-with-cheesy-griddle-and-lawrence-on-guitar-2025-05-30/
END:VEVENT
END:VCALENDAR