BEGIN:VCALENDAR
VERSION:2.0
PRODID:-//Pearmund Cellars - ECPv6.15.20//NONSGML v1.0//EN
CALSCALE:GREGORIAN
METHOD:PUBLISH
X-WR-CALNAME:Pearmund Cellars
X-ORIGINAL-URL:https://www.pearmundcellars.com
X-WR-CALDESC:Events for Pearmund Cellars
REFRESH-INTERVAL;VALUE=DURATION:PT1H
X-Robots-Tag:noindex
X-PUBLISHED-TTL:PT1H
BEGIN:VTIMEZONE
TZID:America/New_York
BEGIN:DAYLIGHT
TZOFFSETFROM:-0500
TZOFFSETTO:-0400
TZNAME:EDT
DTSTART:20250309T070000
END:DAYLIGHT
BEGIN:STANDARD
TZOFFSETFROM:-0400
TZOFFSETTO:-0500
TZNAME:EST
DTSTART:20251102T060000
END:STANDARD
BEGIN:DAYLIGHT
TZOFFSETFROM:-0500
TZOFFSETTO:-0400
TZNAME:EDT
DTSTART:20260308T070000
END:DAYLIGHT
BEGIN:STANDARD
TZOFFSETFROM:-0400
TZOFFSETTO:-0500
TZNAME:EST
DTSTART:20261101T060000
END:STANDARD
BEGIN:DAYLIGHT
TZOFFSETFROM:-0500
TZOFFSETTO:-0400
TZNAME:EDT
DTSTART:20270314T070000
END:DAYLIGHT
BEGIN:STANDARD
TZOFFSETFROM:-0400
TZOFFSETTO:-0500
TZNAME:EST
DTSTART:20271107T060000
END:STANDARD
END:VTIMEZONE
BEGIN:VEVENT
DTSTART;TZID=America/New_York:20260404T120000
DTEND;TZID=America/New_York:20260404T163000
DTSTAMP:20260422T053903
CREATED:20260319T161812Z
LAST-MODIFIED:20260319T161812Z
UID:5462-1775304000-1775320200@www.pearmundcellars.com
SUMMARY:Talk of the Mountain Seafood on site
DESCRIPTION:The best shellfish in the DMV is here from 12p – 5p today.
URL:https://www.pearmundcellars.com/event/talk-of-the-mountain-seafood-on-site-8/
END:VEVENT
END:VCALENDAR