BEGIN:VCALENDAR
VERSION:2.0
PRODID:-//Pearmund Cellars - ECPv6.15.20//NONSGML v1.0//EN
CALSCALE:GREGORIAN
METHOD:PUBLISH
X-WR-CALNAME:Pearmund Cellars
X-ORIGINAL-URL:https://www.pearmundcellars.com
X-WR-CALDESC:Events for Pearmund Cellars
REFRESH-INTERVAL;VALUE=DURATION:PT1H
X-Robots-Tag:noindex
X-PUBLISHED-TTL:PT1H
BEGIN:VTIMEZONE
TZID:America/New_York
BEGIN:DAYLIGHT
TZOFFSETFROM:-0500
TZOFFSETTO:-0400
TZNAME:EDT
DTSTART:20240310T070000
END:DAYLIGHT
BEGIN:STANDARD
TZOFFSETFROM:-0400
TZOFFSETTO:-0500
TZNAME:EST
DTSTART:20241103T060000
END:STANDARD
BEGIN:DAYLIGHT
TZOFFSETFROM:-0500
TZOFFSETTO:-0400
TZNAME:EDT
DTSTART:20250309T070000
END:DAYLIGHT
BEGIN:STANDARD
TZOFFSETFROM:-0400
TZOFFSETTO:-0500
TZNAME:EST
DTSTART:20251102T060000
END:STANDARD
BEGIN:DAYLIGHT
TZOFFSETFROM:-0500
TZOFFSETTO:-0400
TZNAME:EDT
DTSTART:20260308T070000
END:DAYLIGHT
BEGIN:STANDARD
TZOFFSETFROM:-0400
TZOFFSETTO:-0500
TZNAME:EST
DTSTART:20261101T060000
END:STANDARD
END:VTIMEZONE
BEGIN:VEVENT
DTSTART;TZID=America/New_York:20251206T120000
DTEND;TZID=America/New_York:20251206T150000
DTSTAMP:20260423T105347
CREATED:20251119T194149Z
LAST-MODIFIED:20251119T194149Z
UID:4961-1765022400-1765033200@www.pearmundcellars.com
SUMMARY:Santa visits the Farmstore
DESCRIPTION:Bring the Kids\, as the Man with the bag will try and make dreams come true. \nThe Farmstore is open 11a-6p\, and Santa and his fun will be happening 12p – 6p. \nThere is no cost to attend\, but to keep things flowing\, please make reserve a time for EACH child during the designated half hour blocks by clicking here. \nReservations for tables at the Farmstore or the rooms upstairs (6 or more) a can be made by clicking here.
URL:https://www.pearmundcellars.com/event/santa-visits-the-farmstore/
END:VEVENT
END:VCALENDAR