BEGIN:VCALENDAR
VERSION:2.0
PRODID:-//Pearmund Cellars - ECPv6.15.20//NONSGML v1.0//EN
CALSCALE:GREGORIAN
METHOD:PUBLISH
X-ORIGINAL-URL:https://www.pearmundcellars.com
X-WR-CALDESC:Events for Pearmund Cellars
REFRESH-INTERVAL;VALUE=DURATION:PT1H
X-Robots-Tag:noindex
X-PUBLISHED-TTL:PT1H
BEGIN:VTIMEZONE
TZID:America/New_York
BEGIN:DAYLIGHT
TZOFFSETFROM:-0500
TZOFFSETTO:-0400
TZNAME:EDT
DTSTART:20240310T070000
END:DAYLIGHT
BEGIN:STANDARD
TZOFFSETFROM:-0400
TZOFFSETTO:-0500
TZNAME:EST
DTSTART:20241103T060000
END:STANDARD
BEGIN:DAYLIGHT
TZOFFSETFROM:-0500
TZOFFSETTO:-0400
TZNAME:EDT
DTSTART:20250309T070000
END:DAYLIGHT
BEGIN:STANDARD
TZOFFSETFROM:-0400
TZOFFSETTO:-0500
TZNAME:EST
DTSTART:20251102T060000
END:STANDARD
BEGIN:DAYLIGHT
TZOFFSETFROM:-0500
TZOFFSETTO:-0400
TZNAME:EDT
DTSTART:20260308T070000
END:DAYLIGHT
BEGIN:STANDARD
TZOFFSETFROM:-0400
TZOFFSETTO:-0500
TZNAME:EST
DTSTART:20261101T060000
END:STANDARD
END:VTIMEZONE
BEGIN:VEVENT
DTSTART;TZID=America/New_York:20250913T183000
DTEND;TZID=America/New_York:20250913T213000
DTSTAMP:20260423T042129
CREATED:20250820T153125Z
LAST-MODIFIED:20250820T153159Z
UID:4705-1757788200-1757799000@www.pearmundcellars.com
SUMMARY:Wine Dinner at Whipper Inn with Provisions Gourmet
DESCRIPTION:Join us for a four-course Fall Harvest Dinner curated by Chef Kelly\, with wine pairings from Chris Pearmund\, celebrating the bounty of Winfall Farm and its neighbors. Featuring locally raised beef and seasonal produce harvested just steps away from the dinner table\, each course is a tribute to the richness of Virginia’s autumn. Gather with us at The Whipper Inn for an evening of refined\, farm-inspired dining. \nFind the full four-course menu below\, and don’t wait to book your spot—only 50 seats are available. \nDinner is $125.   Optional wine pairings are an additional $25 \nTo sign up click HERE: \n\n\n\n\nFirst Course: Butternut Squash Veloute with Brown Butter\, Creme Fraiche\, Crispy Sage\, and Spiced Pepita Dust \nPearmund 2021 Viognier \n  \nSalad Course: Roasted Beet and Apple Salad with Whipped Goat Cheese\, Pickled Shallots\, Toasted Pecans\, and Cider Vinaigrette \nPearmund 2022 ‘Old Vine’ Chardonnay \n  \nMain Course: Korean Galbi Braised Short Ribs with Pumpkin Mash \nPearmund 2021 Petit Verdot \n  \nDessert Course: Maple Bourbon Pots de Creme with Walnut Praline \nPearmund 2020 Late Harvest Tourgia National
URL:https://www.pearmundcellars.com/event/wine-dinner-at-whipper-inn-with-provisions-gourmet/
END:VEVENT
END:VCALENDAR