BEGIN:VCALENDAR
VERSION:2.0
PRODID:-//Pearmund Cellars - ECPv6.15.20//NONSGML v1.0//EN
CALSCALE:GREGORIAN
METHOD:PUBLISH
X-WR-CALNAME:Pearmund Cellars
X-ORIGINAL-URL:https://www.pearmundcellars.com
X-WR-CALDESC:Events for Pearmund Cellars
REFRESH-INTERVAL;VALUE=DURATION:PT1H
X-Robots-Tag:noindex
X-PUBLISHED-TTL:PT1H
BEGIN:VTIMEZONE
TZID:America/New_York
BEGIN:DAYLIGHT
TZOFFSETFROM:-0500
TZOFFSETTO:-0400
TZNAME:EDT
DTSTART:20240310T070000
END:DAYLIGHT
BEGIN:STANDARD
TZOFFSETFROM:-0400
TZOFFSETTO:-0500
TZNAME:EST
DTSTART:20241103T060000
END:STANDARD
BEGIN:DAYLIGHT
TZOFFSETFROM:-0500
TZOFFSETTO:-0400
TZNAME:EDT
DTSTART:20250309T070000
END:DAYLIGHT
BEGIN:STANDARD
TZOFFSETFROM:-0400
TZOFFSETTO:-0500
TZNAME:EST
DTSTART:20251102T060000
END:STANDARD
BEGIN:DAYLIGHT
TZOFFSETFROM:-0500
TZOFFSETTO:-0400
TZNAME:EDT
DTSTART:20260308T070000
END:DAYLIGHT
BEGIN:STANDARD
TZOFFSETFROM:-0400
TZOFFSETTO:-0500
TZNAME:EST
DTSTART:20261101T060000
END:STANDARD
END:VTIMEZONE
BEGIN:VEVENT
DTSTART;TZID=America/New_York:20250624T180000
DTEND;TZID=America/New_York:20250624T213000
DTSTAMP:20260423T054109
CREATED:20250620T132549Z
LAST-MODIFIED:20250620T132549Z
UID:4613-1750788000-1750800600@www.pearmundcellars.com
SUMMARY:WINE DINNER AT BONEFISH GRILL
DESCRIPTION:Join Chris Pearmund as he and the culinary team at Bonefish Grill in Gainesville pair their summer menu with a selection of our wines. \nDinner\, Wine and Education is $65.  Call Bonefish Grill directly for reservations at 703.753.2597
URL:https://www.pearmundcellars.com/event/wine-dinner-at-bonefish-grill-2/
END:VEVENT
END:VCALENDAR