BEGIN:VCALENDAR
VERSION:2.0
PRODID:-//Pearmund Cellars - ECPv6.15.20//NONSGML v1.0//EN
CALSCALE:GREGORIAN
METHOD:PUBLISH
X-ORIGINAL-URL:https://www.pearmundcellars.com
X-WR-CALDESC:Events for Pearmund Cellars
REFRESH-INTERVAL;VALUE=DURATION:PT1H
X-Robots-Tag:noindex
X-PUBLISHED-TTL:PT1H
BEGIN:VTIMEZONE
TZID:America/New_York
BEGIN:DAYLIGHT
TZOFFSETFROM:-0500
TZOFFSETTO:-0400
TZNAME:EDT
DTSTART:20240310T070000
END:DAYLIGHT
BEGIN:STANDARD
TZOFFSETFROM:-0400
TZOFFSETTO:-0500
TZNAME:EST
DTSTART:20241103T060000
END:STANDARD
BEGIN:DAYLIGHT
TZOFFSETFROM:-0500
TZOFFSETTO:-0400
TZNAME:EDT
DTSTART:20250309T070000
END:DAYLIGHT
BEGIN:STANDARD
TZOFFSETFROM:-0400
TZOFFSETTO:-0500
TZNAME:EST
DTSTART:20251102T060000
END:STANDARD
BEGIN:DAYLIGHT
TZOFFSETFROM:-0500
TZOFFSETTO:-0400
TZNAME:EDT
DTSTART:20260308T070000
END:DAYLIGHT
BEGIN:STANDARD
TZOFFSETFROM:-0400
TZOFFSETTO:-0500
TZNAME:EST
DTSTART:20261101T060000
END:STANDARD
END:VTIMEZONE
BEGIN:VEVENT
DTSTART;TZID=America/New_York:20250613T170000
DTEND;TZID=America/New_York:20250613T203000
DTSTAMP:20260423T054403
CREATED:20250601T202652Z
LAST-MODIFIED:20250601T202652Z
UID:4603-1749834000-1749846600@www.pearmundcellars.com
SUMMARY:FRIDAY NIGHT HAPPY HOUR Trivia with Ron and Cheesy Griddle
DESCRIPTION:Start the weekend off right with Ron running a trivia contest (prizes!) with food provided by Cheesy Griddle.
URL:https://www.pearmundcellars.com/event/friday-night-happy-hour-trivia-with-ron-and-cheesy-griddle/
END:VEVENT
END:VCALENDAR