BEGIN:VCALENDAR
VERSION:2.0
PRODID:-//Pearmund Cellars - ECPv6.15.20//NONSGML v1.0//EN
CALSCALE:GREGORIAN
METHOD:PUBLISH
X-ORIGINAL-URL:https://www.pearmundcellars.com
X-WR-CALDESC:Events for Pearmund Cellars
REFRESH-INTERVAL;VALUE=DURATION:PT1H
X-Robots-Tag:noindex
X-PUBLISHED-TTL:PT1H
BEGIN:VTIMEZONE
TZID:America/New_York
BEGIN:DAYLIGHT
TZOFFSETFROM:-0500
TZOFFSETTO:-0400
TZNAME:EDT
DTSTART:20200308T070000
END:DAYLIGHT
BEGIN:STANDARD
TZOFFSETFROM:-0400
TZOFFSETTO:-0500
TZNAME:EST
DTSTART:20201101T060000
END:STANDARD
BEGIN:DAYLIGHT
TZOFFSETFROM:-0500
TZOFFSETTO:-0400
TZNAME:EDT
DTSTART:20210314T070000
END:DAYLIGHT
BEGIN:STANDARD
TZOFFSETFROM:-0400
TZOFFSETTO:-0500
TZNAME:EST
DTSTART:20211107T060000
END:STANDARD
BEGIN:DAYLIGHT
TZOFFSETFROM:-0500
TZOFFSETTO:-0400
TZNAME:EDT
DTSTART:20220313T070000
END:DAYLIGHT
BEGIN:STANDARD
TZOFFSETFROM:-0400
TZOFFSETTO:-0500
TZNAME:EST
DTSTART:20221106T060000
END:STANDARD
END:VTIMEZONE
BEGIN:VEVENT
DTSTART;TZID=America/New_York:20211113T140000
DTEND;TZID=America/New_York:20211113T160000
DTSTAMP:20260423T101718
CREATED:20211110T150138Z
LAST-MODIFIED:20211110T150138Z
UID:1999-1636812000-1636819200@www.pearmundcellars.com
SUMMARY:Thanksgiving 'TEST DRIVE' at the Farmstore
DESCRIPTION:Feeling unsure what wine to serve Thanksgiving?\nSample classic Thanksgiving day wines from across our wineries in real time\, while enjoying a\ntraditional Thanksgiving Feast at the Farmstore’s Thanksgiving ‘Test Drive’ this weekend.\n\nButter Braised Turkey with Pan Gravy\nCornbread Biscuit with Country Ham\nGreen Beans with Almonds\nSweet Potato Casserole\nPumpkin Pave’ (pumpkin dessert)\n\nIncluded are wines from across our three wineries\, each in its own way deserving of a spot on your Thanksgiving Table.\n\nOnly a few seats remain.\nClick here to make reservations.
URL:https://www.pearmundcellars.com/event/thanksgiving-test-drive-at-the-farmstore/2021-11-13/
END:VEVENT
END:VCALENDAR