BEGIN:VCALENDAR
VERSION:2.0
PRODID:-//Pearmund Cellars - ECPv6.15.20//NONSGML v1.0//EN
CALSCALE:GREGORIAN
METHOD:PUBLISH
X-WR-CALNAME:Pearmund Cellars
X-ORIGINAL-URL:https://www.pearmundcellars.com
X-WR-CALDESC:Events for Pearmund Cellars
REFRESH-INTERVAL;VALUE=DURATION:PT1H
X-Robots-Tag:noindex
X-PUBLISHED-TTL:PT1H
BEGIN:VTIMEZONE
TZID:America/New_York
BEGIN:DAYLIGHT
TZOFFSETFROM:-0500
TZOFFSETTO:-0400
TZNAME:EDT
DTSTART:20200308T070000
END:DAYLIGHT
BEGIN:STANDARD
TZOFFSETFROM:-0400
TZOFFSETTO:-0500
TZNAME:EST
DTSTART:20201101T060000
END:STANDARD
BEGIN:DAYLIGHT
TZOFFSETFROM:-0500
TZOFFSETTO:-0400
TZNAME:EDT
DTSTART:20210314T070000
END:DAYLIGHT
BEGIN:STANDARD
TZOFFSETFROM:-0400
TZOFFSETTO:-0500
TZNAME:EST
DTSTART:20211107T060000
END:STANDARD
BEGIN:DAYLIGHT
TZOFFSETFROM:-0500
TZOFFSETTO:-0400
TZNAME:EDT
DTSTART:20220313T070000
END:DAYLIGHT
BEGIN:STANDARD
TZOFFSETFROM:-0400
TZOFFSETTO:-0500
TZNAME:EST
DTSTART:20221106T060000
END:STANDARD
END:VTIMEZONE
BEGIN:VEVENT
DTSTART;TZID=America/New_York:20210917T090000
DTEND;TZID=America/New_York:20210917T150000
DTSTAMP:20260421T141254
CREATED:20210819T172815Z
LAST-MODIFIED:20210819T172815Z
UID:1900-1631869200-1631890800@www.pearmundcellars.com
SUMMARY:Crush Monkey Friday!
DESCRIPTION:You are the Winemaker!!!! \nSpend a hands on day with the winemakers\, making the 2021 wines. They will guide you in pressing\, punching\, stirring (as well as cleaning and washing) and all that goes into making wine. \nCome dressed to get wet and dirty.   A change of clothes wouldn’t be a bad idea!! \nGOODIES FOR OUR MONKEYS:\n*A Crush Monkey T-shirt\n*A bottle of Pearmund wine\n*A delicious lunch\n*Priceless experience\n*Pride that YOU made the wine.\n$100 per monkey \nWe are limited to 8 people per session.
URL:https://www.pearmundcellars.com/event/crush-monkey-friday/2021-09-17/
END:VEVENT
END:VCALENDAR